<?xml version="1.0" encoding="UTF-8" standalone="no"?>
<metadata xml:lang="cs">
  <Esri>
    <CreaDate>20230323</CreaDate>
    <CreaTime>20062400</CreaTime>
    <ArcGISFormat>1.0</ArcGISFormat>
    <SyncOnce>FALSE</SyncOnce>
    <DataProperties>
      <lineage>
        <Process Date="20230323" Time="200624" ToolSource="c:\program files\arcgis\pro\Resources\ArcToolbox\toolboxes\3D Analyst Tools.tbx\TinRaster">TinRaster TIN\TIN_PM_Georeal_2020_Oprav D:\David\01-3D_v_ArcGIS\08-DMT_Plzen_z_Georeal_2020\03-Rastr\DMT_Plzen_rastr_Oprav.gdb\DMT_Plzen_Georeal_2020_Oprav_NaturNeig "Floating Point" "Natural Neighbors" "Cell Size" 1 0,5</Process>
        <Process Date="20230323" Time="215610" ToolSource="c:\program files\arcgis\pro\Resources\ArcToolbox\toolboxes\Data Management Tools.tbx\Clip">Clip RASTR\DMT_Plzen_Georeal_2020_Oprav_NaturNeig "-830624,999999996 -1078500 -814375 -1062500" D:\David\01-3D_v_ArcGIS\08-DMT_Plzen_z_Georeal_2020\03-Rastr\DMT_Plzen_rastr_Oprav.gdb\DMT_Plzen_Georeal_2020_Oprav_NaNe_Clip "POMOCNÉ TŘÍDY\DMT_Georeal_2020_ROZSAH" 3,4e+38 ClippingGeometry NO_MAINTAIN_EXTENT</Process>
        <Process Date="20230323" Time="215637" ToolSource="c:\program files\arcgis\pro\Resources\ArcToolbox\toolboxes\Data Management Tools.tbx\BuildPyramids">BuildPyramids D:\David\01-3D_v_ArcGIS\08-DMT_Plzen_z_Georeal_2020\03-Rastr\DMT_Plzen_rastr_Oprav.gdb\DMT_Plzen_Georeal_2020_Oprav_NaNe_Clip -1 NONE Bilinear DEFAULT 75 OVERWRITE</Process>
        <Process Date="20230510" Time="183616" ToolSource="c:\program files\arcgis\pro\Resources\ArcToolbox\Toolboxes\Data Management Tools.tbx\CopyMultiple">CopyMultiple "D:\David\01-3D_v_ArcGIS\08-DMT_Plzen_z_Georeal_2020\03-Rastr\DMT_Plzen_rastr_Oprav.gdb\DMT_Plzen_Georeal_2020_Oprav_NaNe_Clip RasterDataset" \\agserver\FILESHARE\GIS\3D_DMT\2020_DMT_Plzen_Georeal\DMT_Georeal_2020.gdb DMT_Plzen_Georeal_2020_Oprav_NaNe_Clip "DMT_Plzen_Georeal_2020_Oprav_NaNe_Clip RasterDataset DMT_Plzen_Georeal_2020_Oprav_NaNe_Clip #"</Process>
        <Process Date="20230510" Time="183839" ToolSource="c:\program files\arcgis\pro\Resources\ArcToolbox\Toolboxes\Data Management Tools.tbx\Rename">Rename \\agserver\FILESHARE\GIS\3D_DMT\2020_DMT_Plzen_Georeal\DMT_Georeal_2020.gdb\DMT_Plzen_Georeal_2020_Oprav_NaNe_Clip \\agserver\FILESHARE\GIS\3D_DMT\2020_DMT_Plzen_Georeal\DMT_Georeal_2020.gdb\DMT_Plzen_Georeal_2020 RasterDataset</Process>
      </lineage>
      <itemProps>
        <itemName Sync="TRUE">DMT_Plzen_Georeal_2020_Oprav_NaNe_Clip</itemName>
        <imsContentType Sync="TRUE">002</imsContentType>
        <nativeExtBox>
          <westBL Sync="TRUE">-830625.000797</westBL>
          <eastBL Sync="TRUE">-814375.000797</eastBL>
          <southBL Sync="TRUE">-1078500.100739</southBL>
          <northBL Sync="TRUE">-1062499.600739</northBL>
          <exTypeCode Sync="TRUE">1</exTypeCode>
        </nativeExtBox>
        <itemLocation>
          <linkage Sync="TRUE">file://\\PC127933\D$\David\01-3D_v_ArcGIS\08-DMT_Plzen_z_Georeal_2020\03-Rastr\DMT_Plzen_rastr_Oprav.gdb</linkage>
          <protocol Sync="TRUE">Local Area Network</protocol>
        </itemLocation>
      </itemProps>
      <coordRef>
        <type Sync="TRUE">Projected</type>
        <geogcsn Sync="TRUE">GCS_S_JTSK</geogcsn>
        <csUnits Sync="TRUE">Linear Unit: Meter (1.000000)</csUnits>
        <projcsn Sync="TRUE">S-JTSK_Krovak_East_North</projcsn>
        <peXml Sync="TRUE">&lt;ProjectedCoordinateSystem xsi:type='typens:ProjectedCoordinateSystem' xmlns:xsi='http://www.w3.org/2001/XMLSchema-instance' xmlns:xs='http://www.w3.org/2001/XMLSchema' xmlns:typens='http://www.esri.com/schemas/ArcGIS/2.9.0'&gt;&lt;WKT&gt;PROJCS[&amp;quot;S-JTSK_Krovak_East_North&amp;quot;,GEOGCS[&amp;quot;GCS_S_JTSK&amp;quot;,DATUM[&amp;quot;D_S_JTSK&amp;quot;,SPHEROID[&amp;quot;Bessel_1841&amp;quot;,6377397.155,299.1528128]],PRIMEM[&amp;quot;Greenwich&amp;quot;,0.0],UNIT[&amp;quot;Degree&amp;quot;,0.0174532925199433]],PROJECTION[&amp;quot;Krovak&amp;quot;],PARAMETER[&amp;quot;False_Easting&amp;quot;,0.0],PARAMETER[&amp;quot;False_Northing&amp;quot;,0.0],PARAMETER[&amp;quot;Pseudo_Standard_Parallel_1&amp;quot;,78.5],PARAMETER[&amp;quot;Scale_Factor&amp;quot;,0.9999],PARAMETER[&amp;quot;Azimuth&amp;quot;,30.28813975277778],PARAMETER[&amp;quot;Longitude_Of_Center&amp;quot;,24.83333333333333],PARAMETER[&amp;quot;Latitude_Of_Center&amp;quot;,49.5],PARAMETER[&amp;quot;X_Scale&amp;quot;,-1.0],PARAMETER[&amp;quot;Y_Scale&amp;quot;,1.0],PARAMETER[&amp;quot;XY_Plane_Rotation&amp;quot;,90.0],UNIT[&amp;quot;Meter&amp;quot;,1.0],AUTHORITY[&amp;quot;EPSG&amp;quot;,5514]]&lt;/WKT&gt;&lt;XOrigin&gt;-33699800&lt;/XOrigin&gt;&lt;YOrigin&gt;-33699800&lt;/YOrigin&gt;&lt;XYScale&gt;133638764.24698351&lt;/XYScale&gt;&lt;ZOrigin&gt;-100000&lt;/ZOrigin&gt;&lt;ZScale&gt;10000&lt;/ZScale&gt;&lt;MOrigin&gt;-100000&lt;/MOrigin&gt;&lt;MScale&gt;10000&lt;/MScale&gt;&lt;XYTolerance&gt;0.001&lt;/XYTolerance&gt;&lt;ZTolerance&gt;0.001&lt;/ZTolerance&gt;&lt;MTolerance&gt;0.001&lt;/MTolerance&gt;&lt;HighPrecision&gt;true&lt;/HighPrecision&gt;&lt;WKID&gt;102067&lt;/WKID&gt;&lt;LatestWKID&gt;5514&lt;/LatestWKID&gt;&lt;/ProjectedCoordinateSystem&gt;</peXml>
      </coordRef>
    </DataProperties>
    <SyncDate>20230323</SyncDate>
    <SyncTime>21554000</SyncTime>
    <ModDate>20230323</ModDate>
    <ModTime>21554000</ModTime>
  </Esri>
  <dataIdInfo>
    <envirDesc Sync="TRUE">Microsoft Windows 10 Version 10.0 (Build 19044) ; Esri ArcGIS 12.9.6.32739</envirDesc>
    <dataLang>
      <languageCode Sync="TRUE" value="ces"/>
      <countryCode Sync="TRUE" value="CZE"/>
    </dataLang>
    <idCitation>
      <resTitle Sync="TRUE">DMT_Plzen_Georeal_2020</resTitle>
      <presForm>
        <PresFormCd Sync="TRUE" value="011"/>
      </presForm>
    </idCitation>
    <spatRpType>
      <SpatRepTypCd Sync="TRUE" value="002"/>
    </spatRpType>
    <dataExt>
      <geoEle>
        <GeoBndBox esriExtentType="search">
          <exTypeCode Sync="TRUE">1</exTypeCode>
          <westBL Sync="TRUE">13.250513</westBL>
          <eastBL Sync="TRUE">13.506768</eastBL>
          <northBL Sync="TRUE">49.823059</northBL>
          <southBL Sync="TRUE">49.658873</southBL>
        </GeoBndBox>
      </geoEle>
    </dataExt>
    <idAbs/>
    <searchKeys>
      <keyword>JTSK</keyword>
    </searchKeys>
    <idPurp>DMT Plzeň, podrobný terén pro doplnění 3D budov a mostů. Zdrojová data Georeal, 2020. Generováno jako TIN a rastr přes nastavení "Natural Neighbours". Zdrojová data = body ve čtvercové síti 15x15m + povinné hrany. Výstupní data = rastr 0,5m/px</idPurp>
    <idCredit/>
    <resConst>
      <Consts>
        <useLimit/>
      </Consts>
    </resConst>
  </dataIdInfo>
  <mdLang>
    <languageCode Sync="TRUE" value="ces"/>
    <countryCode Sync="TRUE" value="CZE"/>
  </mdLang>
  <distInfo>
    <distFormat>
      <formatName Sync="TRUE">File Geodatabase Raster Dataset</formatName>
    </distFormat>
  </distInfo>
  <mdHrLv>
    <ScopeCd Sync="TRUE" value="005"/>
  </mdHrLv>
  <mdHrLvName Sync="TRUE">dataset</mdHrLvName>
  <refSysInfo>
    <RefSystem>
      <refSysID>
        <identCode Sync="TRUE" code="5514"/>
        <idCodeSpace Sync="TRUE">EPSG</idCodeSpace>
        <idVersion Sync="TRUE">7.7(10.1.0)</idVersion>
      </refSysID>
    </RefSystem>
  </refSysInfo>
  <spdoinfo>
    <rastinfo>
      <rasttype Sync="TRUE">Pixel</rasttype>
      <rowcount Sync="TRUE">32001</rowcount>
      <colcount Sync="TRUE">32500</colcount>
      <rastxsz Sync="TRUE">0,500000</rastxsz>
      <rastysz Sync="TRUE">0,500000</rastysz>
      <rastbpp Sync="TRUE">32</rastbpp>
      <vrtcount Sync="TRUE">1</vrtcount>
      <rastorig Sync="TRUE">Upper Left</rastorig>
      <rastcmap Sync="TRUE">FALSE</rastcmap>
      <rastcomp Sync="TRUE">LZ77</rastcomp>
      <rastband Sync="TRUE">1</rastband>
      <rastdtyp Sync="TRUE">pixel codes</rastdtyp>
      <rastifor Sync="TRUE">FGDBR</rastifor>
      <rastplyr Sync="TRUE">TRUE</rastplyr>
    </rastinfo>
  </spdoinfo>
  <spref>
    <horizsys>
      <planar>
        <planci>
          <plance Sync="TRUE">row and column</plance>
          <coordrep>
            <absres Sync="TRUE">0,500000</absres>
            <ordres Sync="TRUE">0,500000</ordres>
          </coordrep>
        </planci>
      </planar>
    </horizsys>
  </spref>
  <mdDateSt Sync="TRUE">20230323</mdDateSt>
</metadata>
