View In:
ArcGIS JavaScript
ArcGIS Online Map Viewer
ArcGIS Earth
Service Description: GIS_TEST_DMT_Plzen_Georeal_2022
Name: GIS_TEST_DMT_Plzen_Georeal_2022
Description:
Single Fused Map Cache: true
Tile Info:
- Height: 256
- Width: 256
- DPI: 96
-
Levels of Detail: 17
- Format: LERC
- Compression Quality: 0.0
- LERC Error: 0.05
- Origin: X: -925000.0
Y: -920000.0
- Spatial Reference: 102067
(5514)
LatestVCSWkid(0)
Storage Info:
- Storage Format: esriMapCacheStorageModeCompactV2
- Packet Size: 128
Extent:
XMin: -830625.0007967169
YMin: -1078500.100739465
XMax: -814375.0007967169
YMax: -1062499.600739465
Spatial Reference: 102067
(5514)
LatestVCSWkid(0)
Initial Extent:
XMin: -830625.0007967169
YMin: -1078500.100739465
XMax: -814375.0007967169
YMax: -1062499.600739465
Spatial Reference: 102067
(5514)
LatestVCSWkid(0)
Full Extent:
XMin: -830625.0007967169
YMin: -1078500.100739465
XMax: -814375.0007967169
YMax: -1062499.600739465
Spatial Reference: 102067
(5514)
LatestVCSWkid(0)
Pixel Size X: 0.5
Pixel Size Y: 0.5
Band Count: 1
Pixel Type: F32
RasterFunction Infos: {"rasterFunctionInfos": [{
"name": "None",
"description": "",
"help": ""
}]}
Mensuration Capabilities: Basic
Inspection Capabilities:
Has Histograms: true
Has Colormap: false
Has Multi Dimensions : false
Rendering Rule:
Min Scale: 7741440
Max Scale: 118.125
Min LOD: 0
Max LOD: 16
Copyright Text:
Service Data Type: esriImageServiceDataTypeGeneric
Min Values: 290.28424072265625
Max Values: 535.5787963867188
Mean Values: 354.9948927054763
Standard Deviation Values: 33.6512077659763
Object ID Field:
Fields:
None
Default Mosaic Method: Center
Allowed Mosaic Methods:
SortField:
SortValue: null
Mosaic Operator: First
Default Compression Quality: 75
Default Resampling Method: Bilinear
Max Record Count: null
Max Image Height: 4100
Max Image Width: 15000
Max Download Image Count: null
Max Mosaic Image Count: null
Allow Raster Function: true
Allow Copy: true
Allow Analysis: true
Allow Compute TiePoints: false
Supports Statistics: false
Supports Advanced Queries: false
Use StandardizedQueries: true
Raster Type Infos:
Name: Raster Dataset
Description: Supports all ArcGIS Raster Datasets
Help:
Has Raster Attribute Table: false
Edit Fields Info: null
Ownership Based AccessControl For Rasters: null
Child Resources:
Info
Histograms
Statistics
Key Properties
Legend
Raster Function Infos
Supported Operations:
Export Image
Identify
Measure
Compute Histograms
Compute Statistics Histograms
Get Samples
Compute Class Statistics
Query Boundary
Compute Pixel Location
Compute Angles
Validate
Project